Workbook

Sheet Foglio1
D1: inserire i valori nelle caselle colorate in verde
B2: diametro specchio | C2: 420 | D2: mm
B3: r eccentrico | C3: 30 | D3: mm | O3: giri motore | P3: 59
B4: elle | C4: 115 | D4: mm | O4: dm pully | P4: 60
B5: B | C5: 301 | D5: mm | O5: Dm pully | P5: 50
B6: b | C6: 101 | D6: mm | O6: ds pully | P6: 70
B7: H | C7: 101 | D7: mm | O7: Ds pully | P7: 100
B8: P | C8: 115 | D8: mm
B9: Diametro utensile | C9: 200 | D9: mm
B10: offset | C10: 0 | D10: mm

Sheet Foglio2
D1: inserire i valori nelle caselle colorate in verde
B2: diametro specchio | C2: =Foglio1!C2 -> 420 | D2: mm
B3: r eccentrico | C3: =Foglio1!C3 -> 30 | D3: mm | K3: w | L3: =(2*3.141592654*C4)/60 -> 7.4141587 | O3: giri motore | P3: =Foglio1!P3 -> 59
B4: giri motorino | C4: =(P3*P4)/P5 -> 70.8 | D4: g/min | K4: W | L4: =(2*3.141592654*C8)/60 -> 4.3249259 | O4: dm pully | P4: =Foglio1!P4 -> 60
B5: elle | C5: =Foglio1!C4 -> 115 | D5: mm | K5: l/R | L5: =C5/C3 -> 3.8333333 | O5: Dm pully | P5: =Foglio1!P5 -> 50
B6: B | C6: =Foglio1!C5 -> 301 | D6: mm | K6: B/b | L6: =(C6+C12)/C7 -> 2.980198 | O6: ds pully | P6: =Foglio1!P6 -> 70
B7: b | C7: =Foglio1!C6 -> 101 | D7: mm | O7: Ds pully | P7: =Foglio1!P7 -> 100
B8: giri specchio | C8: =(P3*P6)/P7 -> 41.3 | D8: g/min
B9: H | C9: =Foglio1!C7 -> 101 | D9: mm
B10: P | C10: =Foglio1!C8 -> 115 | D10: mm
B11: Diametro utensile | C11: =Foglio1!C9 -> 200 | D11: mm
B12: offset | C12: =Foglio1!C10 -> 0 | D12: mm
C14: r*cos(w*t) | D14: r*sen(w*t)+H | E14: Somme | F14: S | G14: 225 - □ | H14: C | I14: A | J14: B | L14: Sx(t) | M14: Sy(t) | N14: alfa | O14: alfa | P14: K | Q14: Sx(t) | R14: Sy(t) | T14: x cerchio | U14: y cerchio | W14: X cent ut | X14: Y cent ut
A15: 0 | B15: =A15/100 -> 0 | C15: =(COS($L$3*B15))*$C$3 -> 30 | D15: =($C$3*(SIN($L$3*B15)))+$C$9 -> 101 | E15: =(C15*C15)+($C$7*$C$7)-($C$5*$C$5)+(D15*D15)-($C$10*$C$10) -> -5148 | F15: =(4*(D15*D15))*(($C$7*$C$7)-($C$10*$C$10)) -> -123391296 | G15: =$C$10-C15 -> 85 | H15: =(E15*E15)-(F15) -> 149893200 | I15: =(4*(G15*G15))+(4*(D15*D15)) -> 69704 | J15: =(2*E15*2*G15)-(8*$C$10*D15*D15) -> -11135240 | L15: =((((-J15)+(SQRT((J15*J15)-(4*I15*H15))))/(2*I15))-$C$10)*$L$6 -> 89.139872 | M15: =($C$6-(SQRT((($C$6+$C$12)*($C$6+$C$12))-(L15*L15)))) -> 13.502029 | N15: =(ATAN(M15/L15)) -> 0.15032743 | O15: =IF(L15>=0,N15,N15+3.141592654) -> 0.15032743 | P15: =ABS(SQRT((L15*L15)+(M15*M15))) -> 90.15665 | Q15: =P15*(COS(O15+($L$4*B15)-$O$15)) -> 90.15665 | R15: =P15*(SIN(O15+($L$4*B15)-$O$15)) -> 0 | S15: =0 -> 0 | T15: =($C$2/2)*COS(S15) -> 210 | U15: =($C$2/2)*SIN(S15) -> 0 | W15: =$L$10018+((0.5*$C$11)*COS(RADIANS(Y15))) -> 189.19435 | X15: =$M$10018+((0.5*$C$11)*SIN(RADIANS(Y15))) -> 13.518926 | Y15: 0 | AA15: 0.02 | AB15: =AA15*$C$2/2 -> 4.2 | AC15: {=FREQUENCY(P15:P10015,AB15:AB64)} -> 296 | AD15: =AC15/(AB15*AB15-AB14*AB14) -> 16.780045
A16: 1 | B16: =A16/50 -> 0.02 | C16: =(COS($L$3*B16))*$C$3 -> 29.670785 | D16: =($C$3*(SIN($L$3*B16)))+$C$9 -> 105.43221 | E16: =(C16*C16)+($C$7*$C$7)-($C$5*$C$5)+(D16*D16)-($C$10*$C$10) -> -4252.6934 | F16: =(4*(D16*D16))*(($C$7*$C$7)-($C$10*$C$10)) -> -1.3445854e+08 | G16: =$C$10-C16 -> 85.329215 | H16: =(E16*E16)-(F16) -> 1.5254395e+08 | I16: =(4*(G16*G16))+(4*(D16*D16)) -> 73588.104 | J16: =(2*E16*2*G16)-(8*$C$10*D16*D16) -> -11678191 | L16: =((((-J16)+(SQRT((J16*J16)-(4*I16*H16))))/(2*I16))-$C$10)*$L$6 -> 87.423108 | M16: =($C$6-(SQRT((($C$6+$C$12)*($C$6+$C$12))-(L16*L16)))) -> 12.975348 | N16: =(ATAN(M16/L16)) -> 0.14734447 | O16: =IF(L16>=0,N16,N16+3.141592654) -> 0.14734447 | P16: =ABS(SQRT((L16*L16)+(M16*M16))) -> 88.380764 | Q16: =P16*(COS(O16+($L$4*B16)-$O$15)) -> 88.072722 | R16: =P16*(SIN(O16+($L$4*B16)-$O$15)) -> 7.3725916 | S16: =((3.141592654*2)/50)+S15 -> 0.12566371 | T16: =($C$2/2)*COS(S16) -> 208.34409 | U16: =($C$2/2)*SIN(S16) -> 26.319979 | W16: =$L$10018+((0.5*$C$11)*COS(RADIANS(Y16))) -> 185.78693 | X16: =$M$10018+((0.5*$C$11)*SIN(RADIANS(Y16))) -> 39.400831 | Y16: =Y15+15 -> 15 | AA16: =AA15+0.02 -> 0.04 | AB16: =AA16*$C$2/2 -> 8.4 | AC16: 288 | AD16: =AC16/(AB16*AB16-AB15*AB15) -> 5.4421769
A17: 2 | B17: =A17/50 -> 0.04 | C17: =(COS($L$3*B17))*$C$3 -> 28.690367 | D17: =($C$3*(SIN($L$3*B17)))+$C$9 -> 109.76715 | E17: =(C17*C17)+($C$7*$C$7)-($C$5*$C$5)+(D17*D17)-($C$10*$C$10) -> -3377.0366 | F17: =(4*(D17*D17))*(($C$7*$C$7)-($C$10*$C$10)) -> -1.457426e+08 | G17: =$C$10-C17 -> 86.309633 | H17: =(E17*E17)-(F17) -> 1.5714698e+08 | I17: =(4*(G17*G17))+(4*(D17*D17)) -> 77992.716 | J17: =(2*E17*2*G17)-(8*$C$10*D17*D17) -> -12250803 | L17: =((((-J17)+(SQRT((J17*J17)-(4*I17*H17))))/(2*I17))-$C$10)*$L$6 -> 83.399554 | M17: =($C$6-(SQRT((($C$6+$C$12)*($C$6+$C$12))-(L17*L17)))) -> 11.784657 | N17: =(ATAN(M17/L17)) -> 0.14037425 | O17: =IF(L17>=0,N17,N17+3.141592654) -> 0.14037425 | P17: =ABS(SQRT((L17*L17)+(M17*M17))) -> 84.228046 | Q17: =P17*(COS(O17+($L$4*B17)-$O$15)) -> 83.110994 | R17: =P17*(SIN(O17+($L$4*B17)-$O$15)) -> 13.672102 | S17: =((3.141592654*2)/50)+S16 -> 0.25132741 | T17: =($C$2/2)*COS(S17) -> 203.40246 | U17: =($C$2/2)*SIN(S17) -> 52.224876 | W17: =$L$10018+((0.5*$C$11)*COS(RADIANS(Y17))) -> 175.79689 | X17: =$M$10018+((0.5*$C$11)*SIN(RADIANS(Y17))) -> 63.518926 | Y17: =Y16+15 -> 30 | AA17: =AA16+0.02 -> 0.06 | AB17: =AA17*$C$2/2 -> 12.6 | AC17: 292 | AD17: =AC17/(AB17*AB17-AB16*AB16) -> 3.3106576
A18: 3 | B18: =A18/50 -> 0.06 | C18: =(COS($L$3*B18))*$C$3 -> 27.080263 | D18: =($C$3*(SIN($L$3*B18)))+$C$9 -> 113.90966 | E18: =(C18*C18)+($C$7*$C$7)-($C$5*$C$5)+(D18*D18)-($C$10*$C$10) -> -2540.2484 | F18: =(4*(D18*D18))*(($C$7*$C$7)-($C$10*$C$10)) -> -1.5695057e+08 | G18: =$C$10-C18 -> 87.919737 | H18: =(E18*E18)-(F18) -> 1.6340343e+08 | I18: =(4*(G18*G18))+(4*(D18*D18)) -> 82821.165 | J18: =(2*E18*2*G18)-(8*$C$10*D18*D18) -> -12830730 | L18: =((((-J18)+(SQRT((J18*J18)-(4*I18*H18))))/(2*I18))-$C$10)*$L$6 -> 77.24769 | M18: =($C$6-(SQRT((($C$6+$C$12)*($C$6+$C$12))-(L18*L18)))) -> 10.081121 | N18: =(ATAN(M18/L18)) -> 0.12977044 | O18: =IF(L18>=0,N18,N18+3.141592654) -> 0.12977044 | P18: =ABS(SQRT((L18*L18)+(M18*M18))) -> 77.902726 | Q18: =P18*(COS(O18+($L$4*B18)-$O$15)) -> 75.689488 | R18: =P18*(SIN(O18+($L$4*B18)-$O$15)) -> 18.437354 | S18: =((3.141592654*2)/50)+S17 -> 0.37699112 | T18: =($C$2/2)*COS(S18) -> 195.25306 | U18: =($C$2/2)*SIN(S18) -> 77.306156 | W18: =$L$10018+((0.5*$C$11)*COS(RADIANS(Y18))) -> 159.90503 | X18: =$M$10018+((0.5*$C$11)*SIN(RADIANS(Y18))) -> 84.229604 | Y18: =Y17+15 -> 45 | AA18: =AA17+0.02 -> 0.08 | AB18: =AA18*$C$2/2 -> 16.8 | AC18: 296 | AD18: =AC18/(AB18*AB18-AB17*AB17) -> 2.3971493
A19: 4 | B19: =A19/50 -> 0.08 | C19: =(COS($L$3*B19))*$C$3 -> 24.875811 | D19: =($C$3*(SIN($L$3*B19)))+$C$9 -> 117.76884 | E19: =(C19*C19)+($C$7*$C$7)-($C$5*$C$5)+(D19*D19)-($C$10*$C$10) -> -1760.6941 | F19: =(4*(D19*D19))*(($C$7*$C$7)-($C$10*$C$10)) -> -1.6776547e+08 | G19: =$C$10-C19 -> 90.124189 | H19: =(E19*E19)-(F19) -> 1.7086551e+08 | I19: =(4*(G19*G19))+(4*(D19*D19)) -> 87967.478 | J19: =(2*E19*2*G19)-(8*$C$10*D19*D19) -> -13394664 | L19: =((((-J19)+(SQRT((J19*J19)-(4*I19*H19))))/(2*I19))-$C$10)*$L$6 -> 69.185661 | M19: =($C$6-(SQRT((($C$6+$C$12)*($C$6+$C$12))-(L19*L19)))) -> 8.0591453 | N19: =(ATAN(M19/L19)) -> 0.11596316 | O19: =IF(L19>=0,N19,N19+3.141592654) -> 0.11596316 | P19: =ABS(SQRT((L19*L19)+(M19*M19))) -> 69.653467 | Q19: =P19*(COS(O19+($L$4*B19)-$O$15)) -> 66.298616 | R19: =P19*(SIN(O19+($L$4*B19)-$O$15)) -> 21.356474 | S19: =((3.141592654*2)/50)+S18 -> 0.50265482 | T19: =($C$2/2)*COS(S19) -> 184.0244 | U19: =($C$2/2)*SIN(S19) -> 101.16827 | W19: =$L$10018+((0.5*$C$11)*COS(RADIANS(Y19))) -> 139.19435 | X19: =$M$10018+((0.5*$C$11)*SIN(RADIANS(Y19))) -> 100.12147 | Y19: =Y18+15 -> 60 | AA19: =AA18+0.02 -> 0.1 | AB19: =AA19*$C$2/2 -> 21 | AC19: 300 | AD19: =AC19/(AB19*AB19-AB18*AB18) -> 1.8896447
A20: 5 | B20: =A20/50 -> 0.1 | C20: =(COS($L$3*B20))*$C$3 -> 22.125394 | D20: =($C$3*(SIN($L$3*B20)))+$C$9 -> 121.25998 | E20: =(C20*C20)+($C$7*$C$7)-($C$5*$C$5)+(D20*D20)-($C$10*$C$10) -> -1055.4832 | F20: =(4*(D20*D20))*(($C$7*$C$7)-($C$10*$C$10)) -> -1.7785939e+08 | G20: =$C$10-C20 -> 92.874606 | H20: =(E20*E20)-(F20) -> 1.7897343e+08 | I20: =(4*(G20*G20))+(4*(D20*D20)) -> 93318.705 | J20: =(2*E20*2*G20)-(8*$C$10*D20*D20) -> -13919775 | L20: =((((-J20)+(SQRT((J20*J20)-(4*I20*H20))))/(2*I20))-$C$10)*$L$6 -> 59.46194 | M20: =($C$6-(SQRT((($C$6+$C$12)*($C$6+$C$12))-(L20*L20)))) -> 5.9317407 | N20: =(ATAN(M20/L20)) -> 0.099427985 | O20: =IF(L20>=0,N20,N20+3.141592654) -> 0.099427985 | P20: =ABS(SQRT((L20*L20)+(M20*M20))) -> 59.757074 | Q20: =P20*(COS(O20+($L$4*B20)-$O$15)) -> 55.458899 | R20: =P20*(SIN(O20+($L$4*B20)-$O$15)) -> 22.253504 | S20: =((3.141592654*2)/50)+S19 -> 0.62831853 | T20: =($C$2/2)*COS(S20) -> 169.89357 | U20: =($C$2/2)*SIN(S20) -> 123.4349 | W20: =$L$10018+((0.5*$C$11)*COS(RADIANS(Y20))) -> 115.07625 | X20: =$M$10018+((0.5*$C$11)*SIN(RADIANS(Y20))) -> 110.11151 | Y20: =Y19+15 -> 75 | AA20: =AA19+0.02 -> 0.12 | AB20: =AA20*$C$2/2 -> 25.2 | AC20: 304 | AD20: =AC20/(AB20*AB20-AB19*AB19) -> 1.5666873
A21: 6 | B21: =A21/50 -> 0.12 | C21: =(COS($L$3*B21))*$C$3 -> 18.889376 | D21: =($C$3*(SIN($L$3*B21)))+$C$9 -> 124.30647 | E21: =(C21*C21)+($C$7*$C$7)-($C$5*$C$5)+(D21*D21)-($C$10*$C$10) -> -440.09336 | F21: =(4*(D21*D21))*(($C$7*$C$7)-($C$10*$C$10)) -> -1.8690858e+08 | G21: =$C$10-C21 -> 96.110624 | H21: =(E21*E21)-(F21) -> 1.8710226e+08 | I21: =(4*(G21*G21))+(4*(D21*D21)) -> 98757.401 | J21: =(2*E21*2*G21)-(8*$C$10*D21*D21) -> -14385121 | L21: =((((-J21)+(SQRT((J21*J21)-(4*I21*H21))))/(2*I21))-$C$10)*$L$6 -> 48.349248 | M21: =($C$6-(SQRT((($C$6+$C$12)*($C$6+$C$12))-(L21*L21)))) -> 3.9085155 | N21: =(ATAN(M21/L21)) -> 0.080663812 | O21: =IF(L21>=0,N21,N21+3.141592654) -> 0.080663812 | P21: =ABS(SQRT((L21*L21)+(M21*M21))) -> 48.506972 | Q21: =P21*(COS(O21+($L$4*B21)-$O$15)) -> 43.692142 | R21: =P21*(SIN(O21+($L$4*B21)-$O$15)) -> 21.069482 | S21: =((3.141592654*2)/50)+S20 -> 0.75398224 | T21: =($C$2/2)*COS(S21) -> 153.08341 | U21: =($C$2/2)*SIN(S21) -> 143.75489 | W21: =$L$10018+((0.5*$C$11)*COS(RADIANS(Y21))) -> 89.19435 | X21: =$M$10018+((0.5*$C$11)*SIN(RADIANS(Y21))) -> 113.51893 | Y21: =Y20+15 -> 90 | AA21: =AA20+0.02 -> 0.14 | AB21: =AA21*$C$2/2 -> 29.4 | AC21: 300 | AD21: =AC21/(AB21*AB21-AB20*AB20) -> 1.3082156
A22: 7 | B22: =A22/50 -> 0.14 | C22: =(COS($L$3*B22))*$C$3 -> 15.238781 | D22: =($C$3*(SIN($L$3*B22)))+$C$9 -> 126.84143 | E22: =(C22*C22)+($C$7*$C$7)-($C$5*$C$5)+(D22*D22)-($C$10*$C$10) -> 71.969027 | F22: =(4*(D22*D22))*(($C$7*$C$7)-($C$10*$C$10)) -> -1.946095e+08 | G22: =$C$10-C22 -> 99.761219 | H22: =(E22*E22)-(F22) -> 1.9461468e+08 | I22: =(4*(G22*G22))+(4*(D22*D22)) -> 104164.2 | J22: =(2*E22*2*G22)-(8*$C$10*D22*D22) -> -14772930 | L22: =((((-J22)+(SQRT((J22*J22)-(4*I22*H22))))/(2*I22))-$C$10)*$L$6 -> 36.140204 | M22: =($C$6-(SQRT((($C$6+$C$12)*($C$6+$C$12))-(L22*L22)))) -> 2.1775015 | N22: =(ATAN(M22/L22)) -> 0.060178748 | O22: =IF(L22>=0,N22,N22+3.141592654) -> 0.060178748 | P22: =ABS(SQRT((L22*L22)+(M22*M22))) -> 36.205744 | Q22: =P22*(COS(O22+($L$4*B22)-$O$15)) -> 31.503514 | R22: =P22*(SIN(O22+($L$4*B22)-$O$15)) -> 17.843332 | S22: =((3.141592654*2)/50)+S21 -> 0.87964594 | T22: =($C$2/2)*COS(S22) -> 133.85904 | U22: =($C$2/2)*SIN(S22) -> 161.80778 | W22: =$L$10018+((0.5*$C$11)*COS(RADIANS(Y22))) -> 63.312446 | X22: =$M$10018+((0.5*$C$11)*SIN(RADIANS(Y22))) -> 110.11151 | Y22: =Y21+15 -> 105 | AA22: =AA21+0.02 -> 0.16 | AB22: =AA22*$C$2/2 -> 33.6 | AC22: 316 | AD22: =AC22/(AB22*AB22-AB21*AB21) -> 1.1942555
A23: 8 | B23: =A23/50 -> 0.16 | C23: =(COS($L$3*B23))*$C$3 -> 11.253731 | D23: =($C$3*(SIN($L$3*B23)))+$C$9 -> 128.80923 | E23: =(C23*C23)+($C$7*$C$7)-($C$5*$C$5)+(D23*D23)-($C$10*$C$10) -> 469.46541 | F23: =(4*(D23*D23))*(($C$7*$C$7)-($C$10*$C$10)) -> -2.0069464e+08 | G23: =$C$10-C23 -> 103.74627 | H23: =(E23*E23)-(F23) -> 2.0091504e+08 | I23: =(4*(G23*G23))+(4*(D23*D23)) -> 109420.43 | J23: =(2*E23*2*G23)-(8*$C$10*D23*D23) -> -15069652 | L23: =((((-J23)+(SQRT((J23*J23)-(4*I23*H23))))/(2*I23))-$C$10)*$L$6 -> 23.143437 | M23: =($C$6-(SQRT((($C$6+$C$12)*($C$6+$C$12))-(L23*L23)))) -> 0.89105092 | N23: =(ATAN(M23/L23)) -> 0.038482228 | O23: =IF(L23>=0,N23,N23+3.141592654) -> 0.038482228 | P23: =ABS(SQRT((L23*L23)+(M23*M23))) -> 23.160584 | Q23: =P23*(COS(O23+($L$4*B23)-$O$15)) -> 19.371149 | R23: =P23*(SIN(O23+($L$4*B23)-$O$15)) -> 12.695323 | S23: =((3.141592654*2)/50)+S22 -> 1.0053096 | T23: =($C$2/2)*COS(S23) -> 112.52363 | U23: =($C$2/2)*SIN(S23) -> 177.30886 | W23: =$L$10018+((0.5*$C$11)*COS(RADIANS(Y23))) -> 39.19435 | X23: =$M$10018+((0.5*$C$11)*SIN(RADIANS(Y23))) -> 100.12147 | Y23: =Y22+15 -> 120 | AA23: =AA22+0.02 -> 0.18 | AB23: =AA23*$C$2/2 -> 37.8 | AC23: 316 | AD23: =AC23/(AB23*AB23-AB22*AB22) -> 1.0537548
A24: 9 | B24: =A24/50 -> 0.18 | C24: =(COS($L$3*B24))*$C$3 -> 7.0216883 | D24: =($C$3*(SIN($L$3*B24)))+$C$9 -> 130.16669 | E24: =(C24*C24)+($C$7*$C$7)-($C$5*$C$5)+(D24*D24)-($C$10*$C$10) -> 743.67169 | F24: =(4*(D24*D24))*(($C$7*$C$7)-($C$10*$C$10)) -> -2.0494697e+08 | G24: =$C$10-C24 -> 107.97831 | H24: =(E24*E24)-(F24) -> 2.0550002e+08 | I24: =(4*(G24*G24))+(4*(D24*D24)) -> 114410.73 | J24: =(2*E24*2*G24)-(8*$C$10*D24*D24) -> -15266697 | L24: =((((-J24)+(SQRT((J24*J24)-(4*I24*H24))))/(2*I24))-$C$10)*$L$6 -> 9.6791742 | M24: =($C$6-(SQRT((($C$6+$C$12)*($C$6+$C$12))-(L24*L24)))) -> 0.15566552 | N24: =(ATAN(M24/L24)) -> 0.016081135 | O24: =IF(L24>=0,N24,N24+3.141592654) -> 0.016081135 | P24: =ABS(SQRT((L24*L24)+(M24*M24))) -> 9.6804259 | Q24: =P24*(COS(O24+($L$4*B24)-$O$15)) -> 7.7400448 | R24: =P24*(SIN(O24+($L$4*B24)-$O$15)) -> 5.813979 | S24: =((3.141592654*2)/50)+S23 -> 1.1309734 | T24: =($C$2/2)*COS(S24) -> 89.413651 | U24: =($C$2/2)*SIN(S24) -> 190.01368 | W24: =$L$10018+((0.5*$C$11)*COS(RADIANS(Y24))) -> 18.483672 | X24: =$M$10018+((0.5*$C$11)*SIN(RADIANS(Y24))) -> 84.229604 | Y24: =Y23+15 -> 135 | AA24: =AA23+0.02 -> 0.2 | AB24: =AA24*$C$2/2 -> 42 | AC24: 332 | AD24: =AC24/(AB24*AB24-AB23*AB23) -> 0.99057167
A25: 10 | B25: =A25/50 -> 0.2 | C25: =(COS($L$3*B25))*$C$3 -> 2.6355359 | D25: =($C$3*(SIN($L$3*B25)))+$C$9 -> 130.88401 | E25: =(C25*C25)+($C$7*$C$7)-($C$5*$C$5)+(D25*D25)-($C$10*$C$10) -> 888.56967 | F25: =(4*(D25*D25))*(($C$7*$C$7)-($C$10*$C$10)) -> -2.0721202e+08 | G25: =$C$10-C25 -> 112.36446 | H25: =(E25*E25)-(F25) -> 2.0800158e+08 | I25: =(4*(G25*G25))+(4*(D25*D25)) -> 119025.59 | J25: =(2*E25*2*G25)-(8*$C$10*D25*D25) -> -15360799 | L25: =((((-J25)+(SQRT((J25*J25)-(4*I25*H25))))/(2*I25))-$C$10)*$L$6 -> -3.9263554 | M25: =($C$6-(SQRT((($C$6+$C$12)*($C$6+$C$12))-(L25*L25)))) -> 0.025609506 | N25: =(ATAN(M25/L25)) -> -0.00652237 | O25: =IF(L25>=0,N25,N25+3.141592654) -> 3.1350703 | P25: =ABS(SQRT((L25*L25)+(M25*M25))) -> 3.9264389 | Q25: =P25*(COS(O25+($L$4*B25)-$O$15)) -> -2.9824287 | R25: =P25*(SIN(O25+($L$4*B25)-$O$15)) -> -2.5538288 | S25: =((3.141592654*2)/50)+S24 -> 1.2566371 | T25: =($C$2/2)*COS(S25) -> 64.893569 | U25: =($C$2/2)*SIN(S25) -> 199.72187 | W25: =$L$10018+((0.5*$C$11)*COS(RADIANS(Y25))) -> 2.5918101 | X25: =$M$10018+((0.5*$C$11)*SIN(RADIANS(Y25))) -> 63.518926 | Y25: =Y24+15 -> 150 | AA25: =AA24+0.02 -> 0.22 | AB25: =AA25*$C$2/2 -> 46.2 | AC25: 332 | AD25: =AC25/(AB25*AB25-AB24*AB24) -> 0.89623151
A26: 11 | B26: =A26/50 -> 0.22 | C26: =(COS($L$3*B26))*$C$3 -> -1.8084603 | D26: =($C$3*(SIN($L$3*B26)))+$C$9 -> 130.94544 | E26: =(C26*C26)+($C$7*$C$7)-($C$5*$C$5)+(D26*D26)-($C$10*$C$10) -> 900.9792 | F26: =(4*(D26*D26))*(($C$7*$C$7)-($C$10*$C$10)) -> -2.0740659e+08 | G26: =$C$10-C26 -> 116.80846 | H26: =(E26*E26)-(F26) -> 2.0821835e+08 | I26: =(4*(G26*G26))+(4*(D26*D26)) -> 123163.7 | J26: =(2*E26*2*G26)-(8*$C$10*D26*D26) -> -15354004 | L26: =((((-J26)+(SQRT((J26*J26)-(4*I26*H26))))/(2*I26))-$C$10)*$L$6 -> -17.348123 | M26: =($C$6-(SQRT((($C$6+$C$12)*($C$6+$C$12))-(L26*L26)))) -> 0.50034504 | N26: =(ATAN(M26/L26)) -> -0.028833458 | O26: =IF(L26>=0,N26,N26+3.141592654) -> 3.1127592 | P26: =ABS(SQRT((L26*L26)+(M26*M26))) -> 17.355337 | Q26: =P26*(COS(O26+($L$4*B26)-$O$15)) -> -12.431484 | R26: =P26*(SIN(O26+($L$4*B26)-$O$15)) -> -12.11057 | S26: =((3.141592654*2)/50)+S25 -> 1.3823008 | T26: =($C$2/2)*COS(S26) -> 39.350076 | U26: =($C$2/2)*SIN(S26) -> 206.28032 | W26: =$L$10018+((0.5*$C$11)*COS(RADIANS(Y26))) -> -7.3982322 | X26: =$M$10018+((0.5*$C$11)*SIN(RADIANS(Y26))) -> 39.400831 | Y26: =Y25+15 -> 165 | AA26: =AA25+0.02 -> 0.24 | AB26: =AA26*$C$2/2 -> 50.4 | AC26: 344 | AD26: =AC26/(AB26*AB26-AB25*AB25) -> 0.84787538
A27: 12 | B27: =A27/50 -> 0.24 | C27: =(COS($L$3*B27))*$C$3 -> -6.212765 | D27: =($C$3*(SIN($L$3*B27)))+$C$9 -> 130.34964 | E27: =(C27*C27)+($C$7*$C$7)-($C$5*$C$5)+(D27*D27)-($C$10*$C$10) -> 780.62791 | F27: =(4*(D27*D27))*(($C$7*$C$7)-($C$10*$C$10)) -> -2.0552349e+08 | G27: =$C$10-C27 -> 121.21277 | H27: =(E27*E27)-(F27) -> 2.0613287e+08 | I27: =(4*(G27*G27))+(4*(D27*D27)) -> 126734.26 | J27: =(2*E27*2*G27)-(8*$C$10*D27*D27) -> -15253259 | L27: =((((-J27)+(SQRT((J27*J27)-(4*I27*H27))))/(2*I27))-$C$10)*$L$6 -> -30.271271 | M27: =($C$6-(SQRT((($C$6+$C$12)*($C$6+$C$12))-(L27*L27)))) -> 1.5260443 | N27: =(ATAN(M27/L27)) -> -0.050369656 | O27: =IF(L27>=0,N27,N27+3.141592654) -> 3.091223 | P27: =ABS(SQRT((L27*L27)+(M27*M27))) -> 30.309713 | Q27: =P27*(COS(O27+($L$4*B27)-$O$15)) -> -20.291806 | R27: =P27*(SIN(O27+($L$4*B27)-$O$15)) -> -22.514912 | S27: =((3.141592654*2)/50)+S26 -> 1.5079645 | T27: =($C$2/2)*COS(S27) -> 13.186009 | U27: =($C$2/2)*SIN(S27) -> 209.58561 | W27: =$L$10018+((0.5*$C$11)*COS(RADIANS(Y27))) -> -10.80565 | X27: =$M$10018+((0.5*$C$11)*SIN(RADIANS(Y27))) -> 13.518926 | Y27: =Y26+15 -> 180 | AA27: =AA26+0.02 -> 0.26 | AB27: =AA27*$C$2/2 -> 54.6 | AC27: 368 | AD27: =AC27/(AB27*AB27-AB26*AB26) -> 0.83446712
... A39: 24 | B39: =A39/50 -> 0.48 | C39: =(COS($L$3*B39))*$C$3 -> -27.42677 | D39: =($C$3*(SIN($L$3*B39)))+$C$9 -> 88.843838 | E39: =(C39*C39)+($C$7*$C$7)-($C$5*$C$5)+(D39*D39)-($C$10*$C$10) -> -7603.5448 | F39: =(4*(D39*D39))*(($C$7*$C$7)-($C$10*$C$10)) -> -95476480 | G39: =$C$10-C39 -> 142.42677 | H39: =(E39*E39)-(F39) -> 1.5329037e+08 | I39: =(4*(G39*G39))+(4*(D39*D39)) -> 112714.45 | J39: =(2*E39*2*G39)-(8*$C$10*D39*D39) -> -11593563 | L39: =((((-J39)+(SQRT((J39*J39)-(4*I39*H39))))/(2*I39))-$C$10)*$L$6 -> -82.625907 | M39: =($C$6-(SQRT((($C$6+$C$12)*($C$6+$C$12))-(L39*L39)))) -> 11.562685 | N39: =(ATAN(M39/L39)) -> -0.13903728 | O39: =IF(L39>=0,N39,N39+3.141592654) -> 3.0025554 | P39: =ABS(SQRT((L39*L39)+(M39*M39))) -> 83.431027 | Q39: =P39*(COS(O39+($L$4*B39)-$O$15)) -> 17.865274 | R39: =P39*(SIN(O39+($L$4*B39)-$O$15)) -> -81.495817 | S39: =((3.141592654*2)/50)+S38 -> 3.0159289 | T39: =($C$2/2)*COS(S39) -> -208.34409 | U39: =($C$2/2)*SIN(S39) -> 26.319979 | W39: =$L$10018+((0.5*$C$11)*COS(RADIANS(Y39))) -> 189.19435 | X39: =$M$10018+((0.5*$C$11)*SIN(RADIANS(Y39))) -> 13.518926 | Y39: =Y38+15 -> 360 | AA39: =AA38+0.02 -> 0.5 | AB39: =AA39*$C$2/2 -> 105 | AC39: 0 | AD39: =AC39/(AB39*AB39-AB38*AB38) -> 0
A40: 25 | B40: =A40/50 -> 0.5 | C40: =(COS($L$3*B40))*$C$3 -> -25.329838 | D40: =($C$3*(SIN($L$3*B40)))+$C$9 -> 84.925196 | E40: =(C40*C40)+($C$7*$C$7)-($C$5*$C$5)+(D40*D40)-($C$10*$C$10) -> -8395.1104 | F40: =(4*(D40*D40))*(($C$7*$C$7)-($C$10*$C$10)) -> -87239847 | G40: =$C$10-C40 -> 140.32984 | H40: =(E40*E40)-(F40) -> 1.5771773e+08 | I40: =(4*(G40*G40))+(4*(D40*D40)) -> 107619.01 | J40: =(2*E40*2*G40)-(8*$C$10*D40*D40) -> -11347644 | L40: =((((-J40)+(SQRT((J40*J40)-(4*I40*H40))))/(2*I40))-$C$10)*$L$6 -> -77.572051 | M40: =($C$6-(SQRT((($C$6+$C$12)*($C$6+$C$12))-(L40*L40)))) -> 10.167442 | N40: =(ATAN(M40/L40)) -> -0.130328 | O40: =IF(L40>=0,N40,N40+3.141592654) -> 3.0112647 | P40: =ABS(SQRT((L40*L40)+(M40*M40))) -> 78.235541 | Q40: =P40*(COS(O40+($L$4*B40)-$O$15)) -> 23.941755 | R40: =P40*(SIN(O40+($L$4*B40)-$O$15)) -> -74.482161 | S40: =((3.141592654*2)/50)+S39 -> 3.1415927 | T40: =($C$2/2)*COS(S40) -> -210 | U40: =($C$2/2)*SIN(S40) -> -8.6143813e-08 | AA40: =AA39+0.02 -> 0.52 | AB40: =AA40*$C$2/2 -> 109.2 | AC40: 0 | AD40: =AC40/(AB40*AB40-AB39*AB39) -> 0
A41: 26 | B41: =A41/50 -> 0.52 | C41: =(COS($L$3*B41))*$C$3 -> -22.676975 | D41: =($C$3*(SIN($L$3*B41)))+$C$9 -> 81.359359 | E41: =(C41*C41)+($C$7*$C$7)-($C$5*$C$5)+(D41*D41)-($C$10*$C$10) -> -9115.4095 | F41: =(4*(D41*D41))*(($C$7*$C$7)-($C$10*$C$10)) -> -80067600 | G41: =$C$10-C41 -> 137.67698 | H41: =(E41*E41)-(F41) -> 1.6315829e+08 | I41: =(4*(G41*G41))+(4*(D41*D41)) -> 102297.18 | J41: =(2*E41*2*G41)-(8*$C$10*D41*D41) -> -11109726 | L41: =((((-J41)+(SQRT((J41*J41)-(4*I41*H41))))/(2*I41))-$C$10)*$L$6 -> -71.245756 | M41: =($C$6-(SQRT((($C$6+$C$12)*($C$6+$C$12))-(L41*L41)))) -> 8.5533513 | N41: =(ATAN(M41/L41)) -> -0.11948234 | O41: =IF(L41>=0,N41,N41+3.141592654) -> 3.0221103 | P41: =ABS(SQRT((L41*L41)+(M41*M41))) -> 71.757352 | Q41: =P41*(COS(O41+($L$4*B41)-$O$15)) -> 28.494877 | R41: =P41*(SIN(O41+($L$4*B41)-$O$15)) -> -65.857114 | S41: =((3.141592654*2)/50)+S40 -> 3.2672564 | T41: =($C$2/2)*COS(S41) -> -208.34409 | U41: =($C$2/2)*SIN(S41) -> -26.319979 | AA41: =AA40+0.02 -> 0.54 | AB41: =AA41*$C$2/2 -> 113.4 | AC41: 0 | AD41: =AC41/(AB41*AB41-AB40*AB40) -> 0
A42: 27 | B42: =A42/50 -> 0.54 | C42: =(COS($L$3*B42))*$C$3 -> -19.526407 | D42: =($C$3*(SIN($L$3*B42)))+$C$9 -> 78.224587 | E42: =(C42*C42)+($C$7*$C$7)-($C$5*$C$5)+(D42*D42)-($C$10*$C$10) -> -9748.6334 | F42: =(4*(D42*D42))*(($C$7*$C$7)-($C$10*$C$10)) -> -74016464 | G42: =$C$10-C42 -> 134.52641 | H42: =(E42*E42)-(F42) -> 1.6905232e+08 | I42: =(4*(G42*G42))+(4*(D42*D42)) -> 96865.76 | J42: =(2*E42*2*G42)-(8*$C$10*D42*D42) -> -10875354 | L42: =((((-J42)+(SQRT((J42*J42)-(4*I42*H42))))/(2*I42))-$C$10)*$L$6 -> -63.676204 | M42: =($C$6-(SQRT((($C$6+$C$12)*($C$6+$C$12))-(L42*L42)))) -> 6.812405 | N42: =(ATAN(M42/L42)) -> -0.1065797 | O42: =IF(L42>=0,N42,N42+3.141592654) -> 3.035013 | P42: =ABS(SQRT((L42*L42)+(M42*M42))) -> 64.03958 | Q42: =P42*(COS(O42+($L$4*B42)-$O$15)) -> 31.137199 | R42: =P42*(SIN(O42+($L$4*B42)-$O$15)) -> -55.960188 | S42: =((3.141592654*2)/50)+S41 -> 3.3929201 | T42: =($C$2/2)*COS(S42) -> -203.40246 | U42: =($C$2/2)*SIN(S42) -> -52.224876 | AA42: =AA41+0.02 -> 0.56 | AB42: =AA42*$C$2/2 -> 117.6 | AC42: 0 | AD42: =AC42/(AB42*AB42-AB41*AB41) -> 0
A43: 28 | B43: =A43/50 -> 0.56 | C43: =(COS($L$3*B43))*$C$3 -> -15.94728 | D43: =($C$3*(SIN($L$3*B43)))+$C$9 -> 75.589682 | E43: =(C43*C43)+($C$7*$C$7)-($C$5*$C$5)+(D43*D43)-($C$10*$C$10) -> -10280.884 | F43: =(4*(D43*D43))*(($C$7*$C$7)-($C$10*$C$10)) -> -69114125 | G43: =$C$10-C43 -> 130.94728 | H43: =(E43*E43)-(F43) -> 1.7481071e+08 | I43: =(4*(G43*G43))+(4*(D43*D43)) -> 91443.96 | J43: =(2*E43*2*G43)-(8*$C$10*D43*D43) -> -10641711 | L43: =((((-J43)+(SQRT((J43*J43)-(4*I43*H43))))/(2*I43))-$C$10)*$L$6 -> -54.893434 | M43: =($C$6-(SQRT((($C$6+$C$12)*($C$6+$C$12))-(L43*L43)))) -> 5.0477894 | N43: =(ATAN(M43/L43)) -> -0.091698276 | O43: =IF(L43>=0,N43,N43+3.141592654) -> 3.0498944 | P43: =ABS(SQRT((L43*L43)+(M43*M43))) -> 55.125033 | Q43: =P43*(COS(O43+($L$4*B43)-$O$15)) -> 31.540308 | R43: =P43*(SIN(O43+($L$4*B43)-$O$15)) -> -45.210377 | S43: =((3.141592654*2)/50)+S42 -> 3.5185838 | T43: =($C$2/2)*COS(S43) -> -195.25306 | U43: =($C$2/2)*SIN(S43) -> -77.306156 | AA43: =AA42+0.02 -> 0.58 | AB43: =AA43*$C$2/2 -> 121.8 | AC43: 0 | AD43: =AC43/(AB43*AB43-AB42*AB42) -> 0
A44: 29 | B44: =A44/50 -> 0.58 | C44: =(COS($L$3*B44))*$C$3 -> -12.018147 | D44: =($C$3*(SIN($L$3*B44)))+$C$9 -> 73.512473 | E44: =(C44*C44)+($C$7*$C$7)-($C$5*$C$5)+(D44*D44)-($C$10*$C$10) -> -10700.48 | F44: =(4*(D44*D44))*(($C$7*$C$7)-($C$10*$C$10)) -> -65367797 | G44: =$C$10-C44 -> 127.01815 | H44: =(E44*E44)-(F44) -> 1.7986808e+08 | I44: =(4*(G44*G44))+(4*(D44*D44)) -> 86150.774 | J44: =(2*E44*2*G44)-(8*$C$10*D44*D44) -> -10408378 | L44: =((((-J44)+(SQRT((J44*J44)-(4*I44*H44))))/(2*I44))-$C$10)*$L$6 -> -44.938254 | M44: =($C$6-(SQRT((($C$6+$C$12)*($C$6+$C$12))-(L44*L44)))) -> 3.3734667 | N44: =(ATAN(M44/L44)) -> -0.074928393 | O44: =IF(L44>=0,N44,N44+3.141592654) -> 3.0666643 | P44: =ABS(SQRT((L44*L44)+(M44*M44))) -> 45.064697 | Q44: =P44*(COS(O44+($L$4*B44)-$O$15)) -> 29.456794 | R44: =P44*(SIN(O44+($L$4*B44)-$O$15)) -> -34.104608 | S44: =((3.141592654*2)/50)+S43 -> 3.6442475 | T44: =($C$2/2)*COS(S44) -> -184.0244 | U44: =($C$2/2)*SIN(S44) -> -101.16827 | W44: =$L$10019+((0.5*$C$11)*COS(RADIANS(Y15))) -> 10.223357 | X44: =$M$10019+((0.5*$C$11)*SIN(RADIANS(Y15))) -> 13.700236 | AA44: =AA43+0.02 -> 0.6 | AB44: =AA44*$C$2/2 -> 126 | AC44: 0 | AD44: =AC44/(AB44*AB44-AB43*AB43) -> 0
A45: 30 | B45: =A45/50 -> 0.6 | C45: =(COS($L$3*B45))*$C$3 -> -7.8252452 | D45: =($C$3*(SIN($L$3*B45)))+$C$9 -> 72.038551 | E45: =(C45*C45)+($C$7*$C$7)-($C$5*$C$5)+(D45*D45)-($C$10*$C$10) -> -10998.213 | F45: =(4*(D45*D45))*(($C$7*$C$7)-($C$10*$C$10)) -> -62772831 | G45: =$C$10-C45 -> 122.82525 | H45: =(E45*E45)-(F45) -> 1.8373351e+08 | I45: =(4*(G45*G45))+(4*(D45*D45)) -> 81102.375 | J45: =(2*E45*2*G45)-(8*$C$10*D45*D45) -> -10177821 | L45: =((((-J45)+(SQRT((J45*J45)-(4*I45*H45))))/(2*I45))-$C$10)*$L$6 -> -33.875254 | M45: =($C$6-(SQRT((($C$6+$C$12)*($C$6+$C$12))-(L45*L45)))) -> 1.9122751 | N45: =(ATAN(M45/L45)) -> -0.056390654 | O45: =IF(L45>=0,N45,N45+3.141592654) -> 3.085202 | P45: =ABS(SQRT((L45*L45)+(M45*M45))) -> 33.929185 | Q45: =P45*(COS(O45+($L$4*B45)-$O$15)) -> 24.74787 | R45: =P45*(SIN(O45+($L$4*B45)-$O$15)) -> -23.210612 | S45: =((3.141592654*2)/50)+S44 -> 3.7699112 | T45: =($C$2/2)*COS(S45) -> -169.89357 | U45: =($C$2/2)*SIN(S45) -> -123.4349 | W45: =$L$10019+((0.5*$C$11)*COS(RADIANS(Y16))) -> 6.8159393 | X45: =$M$10019+((0.5*$C$11)*SIN(RADIANS(Y16))) -> 39.582141 | AA45: =AA44+0.02 -> 0.62 | AB45: =AA45*$C$2/2 -> 130.2 | AC45: 0 | AD45: =AC45/(AB45*AB45-AB44*AB44) -> 0
A46: 31 | B46: =A46/50 -> 0.62 | C46: =(COS($L$3*B46))*$C$3 -> -3.4605973 | D46: =($C$3*(SIN($L$3*B46)))+$C$9 -> 71.200264 | E46: =(C46*C46)+($C$7*$C$7)-($C$5*$C$5)+(D46*D46)-($C$10*$C$10) -> -11167.547 | F46: =(4*(D46*D46))*(($C$7*$C$7)-($C$10*$C$10)) -> -61320401 | G46: =$C$10-C46 -> 118.4606 | H46: =(E46*E46)-(F46) -> 1.860345e+08 | I46: =(4*(G46*G46))+(4*(D46*D46)) -> 76409.563 | J46: =(2*E46*2*G46)-(8*$C$10*D46*D46) -> -9955576.4 | L46: =((((-J46)+(SQRT((J46*J46)-(4*I46*H46))))/(2*I46))-$C$10)*$L$6 -> -21.808434 | M46: =($C$6-(SQRT((($C$6+$C$12)*($C$6+$C$12))-(L46*L46)))) -> 0.79108573 | N46: =(ATAN(M46/L46)) -> -0.036258405 | O46: =IF(L46>=0,N46,N46+3.141592654) -> 3.1053342 | P46: =ABS(SQRT((L46*L46)+(M46*M46))) -> 21.822777 | Q46: =P46*(COS(O46+($L$4*B46)-$O$15)) -> 17.415926 | R46: =P46*(SIN(O46+($L$4*B46)-$O$15)) -> -13.149872 | S46: =((3.141592654*2)/50)+S45 -> 3.8955749 | T46: =($C$2/2)*COS(S46) -> -153.08341 | U46: =($C$2/2)*SIN(S46) -> -143.75489 | W46: =$L$10019+((0.5*$C$11)*COS(RADIANS(Y17))) -> -3.174103 | X46: =$M$10019+((0.5*$C$11)*SIN(RADIANS(Y17))) -> 63.700236 | AA46: =AA45+0.02 -> 0.64 | AB46: =AA46*$C$2/2 -> 134.4 | AC46: 0 | AD46: =AC46/(AB46*AB46-AB45*AB45) -> 0
A47: 32 | B47: =A47/50 -> 0.64 | C47: =(COS($L$3*B47))*$C$3 -> 0.98000255 | D47: =($C$3*(SIN($L$3*B47)))+$C$9 -> 71.016011 | E47: =(C47*C47)+($C$7*$C$7)-($C$5*$C$5)+(D47*D47)-($C$10*$C$10) -> -11204.766 | F47: =(4*(D47*D47))*(($C$7*$C$7)-($C$10*$C$10)) -> -61003440 | G47: =$C$10-C47 -> 114.02 | H47: =(E47*E47)-(F47) -> 1.8655022e+08 | I47: =(4*(G47*G47))+(4*(D47*D47)) -> 72175.335 | J47: =(2*E47*2*G47)-(8*$C$10*D47*D47) -> -9750081.4 | L47: =((((-J47)+(SQRT((J47*J47)-(4*I47*H47))))/(2*I47))-$C$10)*$L$6 -> -8.898107 | M47: =($C$6-(SQRT((($C$6+$C$12)*($C$6+$C$12))-(L47*L47)))) -> 0.13155085 | N47: =(ATAN(M47/L47)) -> -0.014783062 | O47: =IF(L47>=0,N47,N47+3.141592654) -> 3.1268096 | P47: =ABS(SQRT((L47*L47)+(M47*M47))) -> 8.8990794 | Q47: =P47*(COS(O47+($L$4*B47)-$O$15)) -> 7.6385282 | R47: =P47*(SIN(O47+($L$4*B47)-$O$15)) -> -4.5657968 | S47: =((3.141592654*2)/50)+S46 -> 4.0212386 | T47: =($C$2/2)*COS(S47) -> -133.85904 | U47: =($C$2/2)*SIN(S47) -> -161.80778 | W47: =$L$10019+((0.5*$C$11)*COS(RADIANS(Y18))) -> -19.065965 | X47: =$M$10019+((0.5*$C$11)*SIN(RADIANS(Y18))) -> 84.410914 | AA47: =AA46+0.02 -> 0.66 | AB47: =AA47*$C$2/2 -> 138.6 | AC47: 0 | AD47: =AC47/(AB47*AB47-AB46*AB46) -> 0
A48: 33 | B48: =A48/50 -> 0.66 | C48: =(COS($L$3*B48))*$C$3 -> 5.3990936 | D48: =($C$3*(SIN($L$3*B48)))+$C$9 -> 71.489836 | E48: =(C48*C48)+($C$7*$C$7)-($C$5*$C$5)+(D48*D48)-($C$10*$C$10) -> -11109.053 | F48: =(4*(D48*D48))*(($C$7*$C$7)-($C$10*$C$10)) -> -61820196 | G48: =$C$10-C48 -> 109.60091 | H48: =(E48*E48)-(F48) -> 1.8523126e+08 | I48: =(4*(G48*G48))+(4*(D48*D48)) -> 68492.621 | J48: =(2*E48*2*G48)-(8*$C$10*D48*D48) -> -9572182.1 | L48: =((((-J48)+(SQRT((J48*J48)-(4*I48*H48))))/(2*I48))-$C$10)*$L$6 -> 4.6237233 | M48: =($C$6-(SQRT((($C$6+$C$12)*($C$6+$C$12))-(L48*L48)))) -> 0.03551508 | N48: =(ATAN(M48/L48)) -> 0.0076809055 | O48: =IF(L48>=0,N48,N48+3.141592654) -> 0.0076809055 | P48: =ABS(SQRT((L48*L48)+(M48*M48))) -> 4.6238597 | Q48: =P48*(COS(O48+($L$4*B48)-$O$15)) -> -4.2033384 | R48: =P48*(SIN(O48+($L$4*B48)-$O$15)) -> 1.9266614 | S48: =((3.141592654*2)/50)+S47 -> 4.1469023 | T48: =($C$2/2)*COS(S48) -> -112.52363 | U48: =($C$2/2)*SIN(S48) -> -177.30886 | W48: =$L$10019+((0.5*$C$11)*COS(RADIANS(Y19))) -> -39.776643 | X48: =$M$10019+((0.5*$C$11)*SIN(RADIANS(Y19))) -> 100.30278 | AA48: =AA47+0.02 -> 0.68 | AB48: =AA48*$C$2/2 -> 142.8 | AC48: 0 | AD48: =AC48/(AB48*AB48-AB47*AB47) -> 0
A49: 34 | B49: =A49/50 -> 0.68 | C49: =(COS($L$3*B49))*$C$3 -> 9.6996874 | D49: =($C$3*(SIN($L$3*B49)))+$C$9 -> 72.611339 | E49: =(C49*C49)+($C$7*$C$7)-($C$5*$C$5)+(D49*D49)-($C$10*$C$10) -> -10882.509 | F49: =(4*(D49*D49))*(($C$7*$C$7)-($C$10*$C$10)) -> -63775030 | G49: =$C$10-C49 -> 105.30031 | H49: =(E49*E49)-(F49) -> 1.8220404e+08 | I49: =(4*(G49*G49))+(4*(D49*D49)) -> 65442.25 | J49: =(2*E49*2*G49)-(8*$C$10*D49*D49) -> -9434340.7 | L49: =((((-J49)+(SQRT((J49*J49)-(4*I49*H49))))/(2*I49))-$C$10)*$L$6 -> 18.443868 | M49: =($C$6-(SQRT((($C$6+$C$12)*($C$6+$C$12))-(L49*L49)))) -> 0.56560827 | N49: =(ATAN(M49/L49)) -> 0.030656859 | O49: =IF(L49>=0,N49,N49+3.141592654) -> 0.030656859 | P49: =ABS(SQRT((L49*L49)+(M49*M49))) -> 18.452538 | Q49: =P49*(COS(O49+($L$4*B49)-$O$15)) -> -17.513982 | R49: =P49*(SIN(O49+($L$4*B49)-$O$15)) -> 5.8100446 | S49: =((3.141592654*2)/50)+S48 -> 4.272566 | T49: =($C$2/2)*COS(S49) -> -89.413651 | U49: =($C$2/2)*SIN(S49) -> -190.01368 | W49: =$L$10019+((0.5*$C$11)*COS(RADIANS(Y20))) -> -63.894739 | X49: =$M$10019+((0.5*$C$11)*SIN(RADIANS(Y20))) -> 110.29282 | AA49: =AA48+0.02 -> 0.7 | AB49: =AA49*$C$2/2 -> 147 | AC49: 0 | AD49: =AC49/(AB49*AB49-AB48*AB48) -> 0
A50: 35 | B50: =A50/50 -> 0.7 | C50: =(COS($L$3*B50))*$C$3 -> 13.787396 | D50: =($C$3*(SIN($L$3*B50)))+$C$9 -> 74.355907 | E50: =(C50*C50)+($C$7*$C$7)-($C$5*$C$5)+(D50*D50)-($C$10*$C$10) -> -10530.107 | F50: =(4*(D50*D50))*(($C$7*$C$7)-($C$10*$C$10)) -> -66876375 | G50: =$C$10-C50 -> 101.2126 | H50: =(E50*E50)-(F50) -> 1.7775953e+08 | I50: =(4*(G50*G50))+(4*(D50*D50)) -> 63091.168 | J50: =(2*E50*2*G50)-(8*$C$10*D50*D50) -> -9349614.9 | L50: =((((-J50)+(SQRT((J50*J50)-(4*I50*H50))))/(2*I50))-$C$10)*$L$6 -> 32.169654 | M50: =($C$6-(SQRT((($C$6+$C$12)*($C$6+$C$12))-(L50*L50)))) -> 1.7240181 | N50: =(ATAN(M50/L50)) -> 0.053540223 | O50: =IF(L50>=0,N50,N50+3.141592654) -> 0.053540223 | P50: =ABS(SQRT((L50*L50)+(M50*M50))) -> 32.215817 | Q50: =P50*(COS(O50+($L$4*B50)-$O$15)) -> -31.501794 | R50: =P50*(SIN(O50+($L$4*B50)-$O$15)) -> 6.7450605 | S50: =((3.141592654*2)/50)+S49 -> 4.3982297 | T50: =($C$2/2)*COS(S50) -> -64.893569 | U50: =($C$2/2)*SIN(S50) -> -199.72187 | W50: =$L$10019+((0.5*$C$11)*COS(RADIANS(Y21))) -> -89.776643 | X50: =$M$10019+((0.5*$C$11)*SIN(RADIANS(Y21))) -> 113.70024 | AA50: =AA49+0.02 -> 0.72 | AB50: =AA50*$C$2/2 -> 151.2 | AC50: 0 | AD50: =AC50/(AB50*AB50-AB49*AB49) -> 0
A51: 36 | B51: =A51/50 -> 0.72 | C51: =(COS($L$3*B51))*$C$3 -> 17.572504 | D51: =($C$3*(SIN($L$3*B51)))+$C$9 -> 76.685249 | E51: =(C51*C51)+($C$7*$C$7)-($C$5*$C$5)+(D51*D51)-($C$10*$C$10) -> -10059.58 | F51: =(4*(D51*D51))*(($C$7*$C$7)-($C$10*$C$10)) -> -71132069 | G51: =$C$10-C51 -> 97.427496 | H51: =(E51*E51)-(F51) -> 1.7232721e+08 | I51: =(4*(G51*G51))+(4*(D51*D51)) -> 61490.978 | J51: =(2*E51*2*G51)-(8*$C$10*D51*D51) -> -9330495.9 | L51: =((((-J51)+(SQRT((J51*J51)-(4*I51*H51))))/(2*I51))-$C$10)*$L$6 -> 45.346207 | M51: =($C$6-(SQRT((($C$6+$C$12)*($C$6+$C$12))-(L51*L51)))) -> 3.435349 | N51: =(ATAN(M51/L51)) -> 0.075613808 | O51: =IF(L51>=0,N51,N51+3.141592654) -> 0.075613808 | P51: =ABS(SQRT((L51*L51)+(M51*M51))) -> 45.476149 | Q51: =P51*(COS(O51+($L$4*B51)-$O$15)) -> -45.238119 | R51: =P51*(SIN(O51+($L$4*B51)-$O$15)) -> 4.6467977 | S51: =((3.141592654*2)/50)+S50 -> 4.5238934 | T51: =($C$2/2)*COS(S51) -> -39.350076 | U51: =($C$2/2)*SIN(S51) -> -206.28032 | W51: =$L$10019+((0.5*$C$11)*COS(RADIANS(Y22))) -> -115.65855 | X51: =$M$10019+((0.5*$C$11)*SIN(RADIANS(Y22))) -> 110.29282 | AA51: =AA50+0.02 -> 0.74 | AB51: =AA51*$C$2/2 -> 155.4 | AC51: 0 | AD51: =AC51/(AB51*AB51-AB50*AB50) -> 0
A52: 37 | B52: =A52/50 -> 0.74 | C52: =(COS($L$3*B52))*$C$3 -> 20.971936 | D52: =($C$3*(SIN($L$3*B52)))+$C$9 -> 79.548243 | E52: =(C52*C52)+($C$7*$C$7)-($C$5*$C$5)+(D52*D52)-($C$10*$C$10) -> -9481.255 | F52: =(4*(D52*D52))*(($C$7*$C$7)-($C$10*$C$10)) -> -76542556 | G52: =$C$10-C52 -> 94.028064 | H52: =(E52*E52)-(F52) -> 1.6643675e+08 | I52: =(4*(G52*G52))+(4*(D52*D52)) -> 60676.799 | J52: =(2*E52*2*G52)-(8*$C$10*D52*D52) -> -9387705.3 | L52: =((((-J52)+(SQRT((J52*J52)-(4*I52*H52))))/(2*I52))-$C$10)*$L$6 -> 57.490042 | M52: =($C$6-(SQRT((($C$6+$C$12)*($C$6+$C$12))-(L52*L52)))) -> 5.5412125 | N52: =(ATAN(M52/L52)) -> 0.096088779 | O52: =IF(L52>=0,N52,N52+3.141592654) -> 0.096088779 | P52: =ABS(SQRT((L52*L52)+(M52*M52))) -> 57.756471 | Q52: =P52*(COS(O52+($L$4*B52)-$O$15)) -> -57.755856 | R52: =P52*(SIN(O52+($L$4*B52)-$O$15)) -> -0.26647885 | S52: =((3.141592654*2)/50)+S51 -> 4.6495571 | T52: =($C$2/2)*COS(S52) -> -13.186009 | U52: =($C$2/2)*SIN(S52) -> -209.58561 | W52: =$L$10019+((0.5*$C$11)*COS(RADIANS(Y23))) -> -139.77664 | X52: =$M$10019+((0.5*$C$11)*SIN(RADIANS(Y23))) -> 100.30278 | AA52: =AA51+0.02 -> 0.76 | AB52: =AA52*$C$2/2 -> 159.6 | AC52: 0 | AD52: =AC52/(AB52*AB52-AB51*AB51) -> 0
...

Sheet Foglio3
